BEGIN:VCALENDAR
VERSION:2.0
PRODID:-//Samtökin &#039;78 - ECPv6.15.20//NONSGML v1.0//EN
CALSCALE:GREGORIAN
METHOD:PUBLISH
X-ORIGINAL-URL:https://samtokin78.is
X-WR-CALDESC:Events for Samtökin &#039;78
REFRESH-INTERVAL;VALUE=DURATION:PT1H
X-Robots-Tag:noindex
X-PUBLISHED-TTL:PT1H
BEGIN:VTIMEZONE
TZID:UTC
BEGIN:STANDARD
TZOFFSETFROM:+0000
TZOFFSETTO:+0000
TZNAME:UTC
DTSTART:20240101T000000
END:STANDARD
END:VTIMEZONE
BEGIN:VEVENT
DTSTART;TZID=UTC:20250826T200000
DTEND;TZID=UTC:20250826T220000
DTSTAMP:20260421T022514
CREATED:20250825T123550Z
LAST-MODIFIED:20250825T123550Z
UID:17180-1756238400-1756245600@samtokin78.is
SUMMARY:Bókaklúbbur
DESCRIPTION:Að þessu sinni mun bókaklúbbur Samtakanna ’78 taka fyrir ‘This Is How You Lose The Time Wars’ eftir Amal El-Mohtar og Max Gladstone.\nHúsið opnar 19:30!\n\n// The Samtökin ’78 book club will be discussing ‘This Is How You Lose The Time Wars’ by Amal El-Mohtar and Max Gladstone.\nDoors open at 7:30 PM!
URL:https://samtokin78.is/vidburdur/bokaklubbur/
LOCATION:Höfuðstöðvar Samtakanna ’78\, Suðurgötu 3\, Reykjavík\, 101\, Iceland
CATEGORIES:Bókaklúbbur
END:VEVENT
END:VCALENDAR