BEGIN:VCALENDAR
VERSION:2.0
PRODID:-//Samtökin &#039;78 - ECPv6.15.20//NONSGML v1.0//EN
CALSCALE:GREGORIAN
METHOD:PUBLISH
X-ORIGINAL-URL:https://samtokin78.is
X-WR-CALDESC:Events for Samtökin &#039;78
REFRESH-INTERVAL;VALUE=DURATION:PT1H
X-Robots-Tag:noindex
X-PUBLISHED-TTL:PT1H
BEGIN:VTIMEZONE
TZID:UTC
BEGIN:STANDARD
TZOFFSETFROM:+0000
TZOFFSETTO:+0000
TZNAME:UTC
DTSTART:20240101T000000
END:STANDARD
END:VTIMEZONE
BEGIN:VEVENT
DTSTART;TZID=UTC:20251118T200000
DTEND;TZID=UTC:20251118T220000
DTSTAMP:20260420T215042
CREATED:20251021T191525Z
LAST-MODIFIED:20251021T191525Z
UID:17532-1763496000-1763503200@samtokin78.is
SUMMARY:Bókaklúbbur: Patricia Wants to Cuddle
DESCRIPTION:Við munum ræða skáldsöguna Patricia Wants To Cuddle eftir Samantha Allen. Öll velkomin\, einnig þau sem ekki hafa lesið bókina. Húsið opnar kl. 19.30. // We’re reading the novel Patricia Wants to Cuddle by Samantha Allen. Everyone’s welcome\, even those who haven’t read the book. House opens 7.30pm. \n\nBókmenntaklúbbur sem starfar innan Samtakanna ’78. Hópurinn hittist mánaðarlega og les og ræðir eitt eða fleiri fyrirfram ákveðin bókmenntaverk sem snerta á hinsegin tilveru. Öll eru velkomin að bætast í hópinn – formleg reynsla af bókmenntalestri er með öllu óþörf!\n\n\nThe bookclub is run within Samtökin ’78. Meetings are monthly. We read and discuss one or more books that touch on queer/LGBTI lives and subjects. Everyone is welcome to join!
URL:https://samtokin78.is/vidburdur/bokaklubbur-patricia-wants-to-cuddle/
LOCATION:Höfuðstöðvar Samtakanna ’78\, Suðurgötu 3\, Reykjavík\, 101\, Iceland
CATEGORIES:Bókaklúbbur
ORGANIZER;CN="Samt%C3%B6kin '78":MAILTO:skrifstofa@samtokin78.is
END:VEVENT
END:VCALENDAR