BEGIN:VCALENDAR
VERSION:2.0
PRODID:-//Samtökin &#039;78 - ECPv6.15.20//NONSGML v1.0//EN
CALSCALE:GREGORIAN
METHOD:PUBLISH
X-WR-CALNAME:Samtökin &#039;78
X-ORIGINAL-URL:https://samtokin78.is
X-WR-CALDESC:Events for Samtökin &#039;78
REFRESH-INTERVAL;VALUE=DURATION:PT1H
X-Robots-Tag:noindex
X-PUBLISHED-TTL:PT1H
BEGIN:VTIMEZONE
TZID:UTC
BEGIN:STANDARD
TZOFFSETFROM:+0000
TZOFFSETTO:+0000
TZNAME:UTC
DTSTART:20240101T000000
END:STANDARD
END:VTIMEZONE
BEGIN:VEVENT
DTSTART;VALUE=DATE:20260307
DTEND;VALUE=DATE:20260308
DTSTAMP:20260420T110617
CREATED:20260107T110229Z
LAST-MODIFIED:20260223T114217Z
UID:17951-1772841600-1772927999@samtokin78.is
SUMMARY:Landsþing hinsegin fólks
DESCRIPTION:Landsþing hinsegin fólks er fyrst og fremst kjörið tækifæri fyrir fólk að hittast.  Landsþing hinsegin fólks er haldið í tilefni af aðalfundi Samtakanna ’78.
URL:https://samtokin78.is/vidburdur/landsthing-hinsegin-folks/
LOCATION:Iðnó\, Vonarstræti 3\, Reykjavík\, 101
CATEGORIES:Hittingar,Menningarviðburðir
ORGANIZER;CN="Samt%C3%B6kin '78":MAILTO:skrifstofa@samtokin78.is
END:VEVENT
BEGIN:VEVENT
DTSTART;TZID=UTC:20251206T130000
DTEND;TZID=UTC:20251206T150000
DTSTAMP:20260420T110617
CREATED:20251203T143549Z
LAST-MODIFIED:20251203T164720Z
UID:17713-1765026000-1765033200@samtokin78.is
SUMMARY:Aðventustund fyrir regnbogabörn
DESCRIPTION:Aðventustund fyrir regnbogabörn! \nSamtökin 78 og hinsegin barnabókahöfundar bjóða öllum fjölskyldum\, hvernig sem þær eru samansettar\, til aðventustundar í húsnæði Samtakanna 78 á Suðurgötu. Stundin verður laugardaginn 6. desember kl. 13.00. \nHinsegin barnabókahöfundar lesa úr verkum sínum\, rabba við börnin og árita. Við ætlum að syngja saman\, njóta samverunnar\, maula piparkökur og sötra saman heitt súkkulaði. \nHöfundarnir eru: Bergrún Íris\, Hafsteinn Hafsteinsson\, Elísabet Thoroddsen\, Felix Bergsson\, Ingileif\, María Rut og Tindur Lilja H. Péturs. \nVið hlökkum til að sjá allar fjölskyldur regnbogans njóta aðventunnar saman á laugardaginn kl. 13.00-15.00 í félagsmiðstöð Samtakanna 78! \n// \nAdvent meet-up for rainbow children! \nSamtökin 78 and queer children’s book authors invite all families\, however they are composed\, to a cozy Advent meet-up at Samtökin 78’s premises on Suðurgata\, on Saturday\, December 6th at 1:00 PM. \nQueer children’s book authors will read from their works\, speak to the children and sign their books. We will sing together\, enjoy each other’s company\, eat gingerbread and sip hot chocolate together. \nThe authors are: Bergrún Íris\, Hafsteinn Hafsteinsson\, Elísabet Thoroddsen\, Felix Bergsson\, Ingileif\, María Rut and Tindur Lilja H. Péturs. \nWe look forward to seeing all rainbow families enjoying Advent together on Saturday at 1:00-3:00 PM at Samtökin 78’s community center!
URL:https://samtokin78.is/vidburdur/adventustund-fyrir-regnbogaborn/
LOCATION:Höfuðstöðvar Samtakanna ’78\, Suðurgötu 3\, Reykjavík\, 101\, Iceland
CATEGORIES:Hittingar,Menningarviðburðir
END:VEVENT
BEGIN:VEVENT
DTSTART;TZID=UTC:20250905T210000
DTEND;TZID=UTC:20250905T230000
DTSTAMP:20260420T110617
CREATED:20250825T124937Z
LAST-MODIFIED:20250825T125034Z
UID:17191-1757106000-1757113200@samtokin78.is
SUMMARY:Big Boys - Icelandic Queer Film Festival
DESCRIPTION:Samtökin ’78 og Bangsafélagið í samstarfi við Icelandic Queer Film Festival kynna: Big Boys\nJamie er feiminn 14 ára strákur sem hlakkar til að fara í útilegu með uppáhalds frænku sinni – þar til hann kemst að því að nýr kærasti hennar ætlar að koma með. Ferðin tekur óvænta stefnu og verður að hjartnæmu og fyndnu ævintýri fullu af hlátri\, vandræðum og nýjum uppgötvunum.Hjartahlý saga fyrir alla aldurshópa sem minnir okkur á að stundum koma stærstu augnablikin þegar við síst búumst við þeim.\n\nKaupa miða.\n\nLeikstjórn: Corey ShermanAðalhlutverk: Isaac Krasner\, Dora Madison\, David Johnsson IIITungumál: Enska | Texti: EnskaFramleiðsluár: 2023 | Lengd: 90 mín | Land: USA\n\n//\n\nSamtökin ’78 and Bangsafélagið\, in collaboration with the Icelandic Queer Film Festival\, present: Big Boys\nJamie is a shy 14-year-old boy who’s excited to go camping with his favorite cousin—until he finds out her new boyfriend is tagging along. What follows is a heartwarming and hilarious journey filled with laughter\, awkward moments\, and unexpected discoveries.A charming coming-of-age story for all ages\, reminding us that the biggest moments often come when we least expect them.\n\nGet tickets.\n\nDirector: Corey ShermanStarring: Isaac Krasner\, Dora Madison\, David Johnsson IIILanguage: English | Subtitles: EnglishYear: 2023 | Runtime: 90 min | Country: USA
URL:https://samtokin78.is/vidburdur/big-boys-icelandic-queer-film-festival/
LOCATION:Bíó Paradís
CATEGORIES:Menningarviðburðir
END:VEVENT
END:VCALENDAR